BEGIN:VCALENDAR
VERSION:2.0
PRODID:-//AACH UN KRAACH - ECPv6.15.18//NONSGML v1.0//EN
CALSCALE:GREGORIAN
METHOD:PUBLISH
X-ORIGINAL-URL:https://aachunkraach.de
X-WR-CALDESC:Veranstaltungen für AACH UN KRAACH
REFRESH-INTERVAL;VALUE=DURATION:PT1H
X-Robots-Tag:noindex
X-PUBLISHED-TTL:PT1H
BEGIN:VTIMEZONE
TZID:Europe/Berlin
BEGIN:DAYLIGHT
TZOFFSETFROM:+0100
TZOFFSETTO:+0200
TZNAME:CEST
DTSTART:20250330T010000
END:DAYLIGHT
BEGIN:STANDARD
TZOFFSETFROM:+0200
TZOFFSETTO:+0100
TZNAME:CET
DTSTART:20251026T010000
END:STANDARD
BEGIN:DAYLIGHT
TZOFFSETFROM:+0100
TZOFFSETTO:+0200
TZNAME:CEST
DTSTART:20260329T010000
END:DAYLIGHT
BEGIN:STANDARD
TZOFFSETFROM:+0200
TZOFFSETTO:+0100
TZNAME:CET
DTSTART:20261025T010000
END:STANDARD
BEGIN:DAYLIGHT
TZOFFSETFROM:+0100
TZOFFSETTO:+0200
TZNAME:CEST
DTSTART:20270328T010000
END:DAYLIGHT
BEGIN:STANDARD
TZOFFSETFROM:+0200
TZOFFSETTO:+0100
TZNAME:CET
DTSTART:20271031T010000
END:STANDARD
END:VTIMEZONE
BEGIN:VEVENT
DTSTART;TZID=Europe/Berlin:20260511T190000
DTEND;TZID=Europe/Berlin:20260511T220000
DTSTAMP:20260424T115002
CREATED:20260319T131615Z
LAST-MODIFIED:20260319T131615Z
UID:5107-1778526000-1778536800@aachunkraach.de
SUMMARY:Friesdorfer Kirmes 2026 @ Pfadibude
DESCRIPTION:
URL:https://aachunkraach.de/konzert/friesdorfer-kirmes-2026-pfadibude/
LOCATION:Servatiusschule\, Annaberger Str. 186\, Bonn\, 53175\, Deutschland
ATTACH;FMTTYPE=image/jpeg:https://aachunkraach.de/wp-content/uploads/2026/03/2026-05-11-Pfadibude-Kirmes-Friesdorf-Bonn-1200x628-1.jpg
END:VEVENT
END:VCALENDAR